BEGIN:VCALENDAR
VERSION:2.0
PRODID:-//ChamberMaster//Event Calendar 2.0//EN
METHOD:PUBLISH
X-PUBLISHED-TTL:P3D
REFRESH-INTERVAL:P3D
CALSCALE:GREGORIAN
BEGIN:VEVENT
DTSTART:20090301T010000Z
DTEND:20090301T040000Z
X-MICROSOFT-CDO-ALLDAYEVENT:FALSE
SUMMARY:''You be the Judge'' Chili Cook-Off and Silent Auction
DESCRIPTION:Please join us for Delta Elementary Charter School's "You be the Judge" Chili Cook-Off and Silent Auction.  \nChili tasting and judging - $1.00 each\nChili Bowl - $3.00\nTri-Tip Sandwich - $5.00\nDrinks - $.50
X-ALT-DESC;FMTTYPE=text/html:Please join us for Delta Elementary Charter School's "You be the Judge" Chili Cook-Off and Silent Auction.  \nChili tasting and judging - $1.00 each\nChili Bowl - $3.00\nTri-Tip Sandwich - $5.00\nDrinks - $.50\n\n
LOCATION:52810 Netherlands Avenue\, Clarksburg\, CA 95612 52810 Netherlands Avenue Clarksburg\, CA 95612 Delta High School Cafeteria
UID:e.2957.833
SEQUENCE:3
DTSTAMP:20260425T204353Z
URL:https://www.westsacramentochamber.com/events/details/you-be-the-judge-chili-cook-off-and-silent-auction-833
END:VEVENT

END:VCALENDAR
