BEGIN:VCALENDAR
VERSION:2.0
PRODID:-//ChamberMaster//Event Calendar 2.0//EN
METHOD:PUBLISH
X-PUBLISHED-TTL:P3D
REFRESH-INTERVAL:P3D
CALSCALE:GREGORIAN
BEGIN:VEVENT
DTSTART:20100723T020000Z
DTEND:20100723T033000Z
X-MICROSOFT-CDO-ALLDAYEVENT:FALSE
SUMMARY:YoloArts Musical Tour: The Wicked Tinkers
DESCRIPTION:YoloArts presents Wicked Tinkers at River Walk Park\, Grand Staircase\, West Sacramento as the third of nine concert series which make up "YoloArts Musical Tour 2010-11". Enjoy a night of live celtic music with your family at a discounted rate of $10 per ticket in advance or $12 at the door. Prepare yourself for a wild ride with Wicked Tinkers! Pioneers of the growing Tribal Celtic movement\, the Tinkers have been playing haunting\, heart-pounding bagpipes and irresistible\, tribal drums as a professional touring band since 1995. With the addition\, several years back\, of the mesmerizing drone of the Australian didgeridoo and Bronze Age Irish horn\, the magic was complete. Sit back and be transported to an earlier time in Scotland and Ireland\, when battle cries filled the air and strange\, unheard-of creatures roamed the night. Or better yet\, get on your feet and let your body move to ancient rhythmsand forgotten sounds.
X-ALT-DESC;FMTTYPE=text/html:YoloArts presents Wicked Tinkers at River Walk Park\, Grand Staircase\, West Sacramento as the third of nine concert series which make up "YoloArts Musical Tour 2010-11". Enjoy a night of live celtic music with your family at a discounted rate of $10 per ticket in advance or $12 at the door. Prepare yourself for a wild ride with Wicked Tinkers! Pioneers of the growing Tribal Celtic movement\, the Tinkers have been playing haunting\, heart-pounding bagpipes and irresistible\, tribal drums as a professional touring band since 1995. With the addition\, several years back\, of the mesmerizing drone of the Australian didgeridoo and Bronze Age Irish horn\, the magic was complete. Sit back and be transported to an earlier time in Scotland and Ireland\, when battle cries filled the air and strange\, unheard-of creatures roamed the night. Or better yet\, get on your feet and let your body move to ancient rhythmsand forgotten sounds. 
LOCATION:651 2nd Street\, West Sacramento\, CA 95605 River Walk Park - Between Tower Bridge and I Street Bridge at Grand Staircase
UID:e.2957.1001
SEQUENCE:3
DTSTAMP:20260422T151128Z
URL:https://www.westsacramentochamber.com/events/details/yoloarts-musical-tour-the-wicked-tinkers-1001
END:VEVENT

END:VCALENDAR
