BEGIN:VCALENDAR
VERSION:2.0
PRODID:-//ChamberMaster//Event Calendar 2.0//EN
METHOD:PUBLISH
X-PUBLISHED-TTL:P3D
REFRESH-INTERVAL:P3D
CALSCALE:GREGORIAN
BEGIN:VEVENT
DTSTART:20161124T160000Z
DTEND:20161124T160000Z
X-MICROSOFT-CDO-ALLDAYEVENT:FALSE
SUMMARY:Yolo Food Bank's Running of the Turkeys 5k Run/Walk
DESCRIPTION:This is the 8th Annual Running of the Turkeys Run/Walk benefitting Yolo Food Bank. Proceeds go toward ending hunger in Yolo County. Donations of canned food and frozen turkeys will be accepted at the event. There will be awards for top finishers and prizes for best dressed individuals\, teams\, and more. For registration\, event details or sponsorships call 530.668.0690 or visit www.runningoftheturkeys.org
X-ALT-DESC;FMTTYPE=text/html:This is the 8th Annual Running of the Turkeys Run/Walk benefitting Yolo Food Bank. Proceeds go toward ending hunger in Yolo County. Donations of canned food and frozen turkeys will be accepted at the event. There will be awards for top finishers and prizes for best dressed individuals\, teams\, and more. For registration\, event details or sponsorships call 530.668.0690 or visit www.runningoftheturkeys.org
LOCATION:Heritage Plaza\, Woodland\, CA 95695 Heritage Plaza (in front of the Opra House) in downtown Woodland\, CA
UID:e.2957.1489
SEQUENCE:3
DTSTAMP:20260422T084937Z
URL:https://www.westsacramentochamber.com/events/details/yolo-food-bank-s-running-of-the-turkeys-5k-run-walk-1489
END:VEVENT

END:VCALENDAR
