BEGIN:VCALENDAR
VERSION:2.0
PRODID:-//ChamberMaster//Event Calendar 2.0//EN
METHOD:PUBLISH
X-PUBLISHED-TTL:P3D
REFRESH-INTERVAL:P3D
CALSCALE:GREGORIAN
BEGIN:VEVENT
DTSTART;VALUE=DATE:20081113
DTEND;VALUE=DATE:20081114
TRANSP:TRANSPARENT
X-MICROSOFT-CDO-ALLDAYEVENT:TRUE
SUMMARY:Yolo County Philanthropy Day Awards Event
DESCRIPTION:YOLO COMMUNITY FOUNDATION ANNOUNCES YOLO COUNTY PHILANTHROPY DAY AWARDS EVENT \n\n\nYolo Community Foundation\, a nonprofit organization\, will host the Yolo County Philanthropy Day Awards Thursday\, November 13\, 2008 at the Heidrick Ag History Center\, 1962 Hayes Lane in Woodland. All Yolo County Nonprofits are invited to participate.
X-ALT-DESC;FMTTYPE=text/html:<font face="Arial" size="2">YOLO COMMUNITY FOUNDATION ANNOUNCES YOLO COUNTY PHILANTHROPY DAY AWARDS EVENT \n<br />\nYolo Community Foundation\, a nonprofit organization\, will host the Yolo County Philanthropy Day Awards Thursday\, November 13\, 2008 at the Heidrick Ag History Center\, 1962 Hayes Lane in Woodland. All Yolo County Nonprofits are invited to participate.</font>
LOCATION:
UID:e.2957.701
SEQUENCE:3
DTSTAMP:20260426T034529Z
URL:https://www.westsacramentochamber.com/events/details/yolo-county-philanthropy-day-awards-event-701
END:VEVENT

END:VCALENDAR
