BEGIN:VCALENDAR
VERSION:2.0
PRODID:-//ChamberMaster//Event Calendar 2.0//EN
METHOD:PUBLISH
X-PUBLISHED-TTL:P3D
REFRESH-INTERVAL:P3D
CALSCALE:GREGORIAN
BEGIN:VEVENT
DTSTART:20090312T170000Z
DTEND:20090312T210000Z
X-MICROSOFT-CDO-ALLDAYEVENT:FALSE
SUMMARY:Yolo County One-Stop Job Fair
DESCRIPTION:The Yolo County One-Stop Career Center is hosting a job fair on Thursday\, March 12th from 10am to 2pm.  There will be over 20 companies and training providers on hand to accept applications and provide information on open positions or training programs.
X-ALT-DESC;FMTTYPE=text/html:The Yolo County One-Stop Career Center is hosting a job fair on Thursday\, March 12th from 10am to 2pm.  There will be over 20 companies and training providers on hand to accept applications and provide information on open positions or training programs.
LOCATION:500-A Jefferson Blvd\, West Sacramento\, CA 95605 The job fair will be held at the Yolo County Department of Employment & Social Services building located at 500-A Jefferson Blvd in West Sacramento.
UID:e.2957.835
SEQUENCE:3
DTSTAMP:20260425T204332Z
URL:https://www.westsacramentochamber.com/events/details/yolo-county-one-stop-job-fair-835
END:VEVENT

END:VCALENDAR
