BEGIN:VCALENDAR
VERSION:2.0
PRODID:-//ChamberMaster//Event Calendar 2.0//EN
METHOD:PUBLISH
X-PUBLISHED-TTL:P3D
REFRESH-INTERVAL:P3D
CALSCALE:GREGORIAN
BEGIN:VEVENT
DTSTART:20241010T003000Z
DTEND:20241010T040000Z
X-MICROSOFT-CDO-ALLDAYEVENT:FALSE
SUMMARY:Yolo County CASA's Dinner & Auction
DESCRIPTION:Save the Date! Join us for the Yolo County CASA Dinner & Auction\, "Standing With Our Youth - Every Step of the Way\," on Wednesday\, October 9th\, at the beautiful Park Winters. The event begins at 5:30 p.m. Sponsorships and individual ticket sales are available now\, www.yolocasa.ejoinme.org/2024dinner. Help us champion the best interests of every child in foster care in Yolo County! For questions\, contact Doni DeBolt\, executive director\, at ddebolt@yolocasa.org or 530-661-4200.
X-ALT-DESC;FMTTYPE=text/html:<span style="color:rgb(0\, 0\, 0)\; font-family:birdseye\,sans-serif\; font-size:16px">Save the Date! Join us for the Yolo County CASA Dinner &amp\; Auction\, &ldquo\;Standing With Our Youth - Every Step of the Way\,&rdquo\; on Wednesday\, October 9th\, at the beautiful Park Winters. The event begins at 5:30 p.m. Sponsorships and individual ticket sales are available now\, www.yolocasa.ejoinme.org/2024dinner. Help us champion the best interests of every child in foster care in Yolo County! For questions\, contact Doni DeBolt\, executive director\, at ddebolt@yolocasa.org or 530-661-4200.</span>
LOCATION:Yolo County CASA Dinner & Auction 27850 Co Rd 26 Winters\, CA 95694
UID:e.2957.4997
SEQUENCE:3
DTSTAMP:20260423T085919Z
URL:https://www.westsacramentochamber.com/events/details/yolo-county-casa-s-dinner-auction-4997
END:VEVENT

END:VCALENDAR
