BEGIN:VCALENDAR
VERSION:2.0
PRODID:-//ChamberMaster//Event Calendar 2.0//EN
METHOD:PUBLISH
X-PUBLISHED-TTL:P3D
REFRESH-INTERVAL:P3D
CALSCALE:GREGORIAN
BEGIN:VEVENT
DTSTART:20080918T233000Z
DTEND:20080919T003000Z
X-MICROSOFT-CDO-ALLDAYEVENT:FALSE
SUMMARY:Yolo County Ad Tour Reception
DESCRIPTION:Yolo County Ad Tour Reception\n\n\nYolo County Supervisor Mike McGowan and West Sacramento Mayor\, \n\n\nChristopher Cabaldon will speak about Delta water resources issues and the Clarksburg Agricultural District on September 18th from 4:30 to 5:30 pm at International House\, Davis.\n\nFood and wine tasting. See flyer...
X-ALT-DESC;FMTTYPE=text/html:<font face="Arial"><font size="2"><b>Yolo County Ad Tour Reception</b>\n<br />\nYolo County Supervisor Mike McGowan and West Sacramento Mayor\, \n<br />\nChristopher Cabaldon will speak about Delta water resources issues and the Clarksburg Agricultural District on September 18th from 4:30 to 5:30 pm at International House\, Davis.<br />\nFood and wine tasting. </font></font><a href="http://www.westsacramentochamber.com/flyers/Yolo-Reception-Invite.jpg"><font face="Arial" size="2">See flyer...</font></a>
LOCATION:
UID:e.2957.702
SEQUENCE:3
DTSTAMP:20260426T042127Z
URL:https://www.westsacramentochamber.com/events/details/yolo-county-ad-tour-reception-702
END:VEVENT

END:VCALENDAR
