BEGIN:VCALENDAR
VERSION:2.0
PRODID:-//ChamberMaster//Event Calendar 2.0//EN
METHOD:PUBLISH
X-PUBLISHED-TTL:P3D
REFRESH-INTERVAL:P3D
CALSCALE:GREGORIAN
BEGIN:VEVENT
DTSTART:20100304T213000Z
DTEND:20100305T000000Z
X-MICROSOFT-CDO-ALLDAYEVENT:FALSE
SUMMARY:YDN-Gallup Special Event ''Breaking All the Rules:Improving Organizational Productivity''
DESCRIPTION:Learn from the Gallup experts why strengths and talents matter and how the best organizations and businesses are doing this.  \n\nSeveral large corporations in Sacramento are using the Gallup research and strength based methods - Wells Farge\, Teichert Corporation\, BofA Youth Leaders Program\, Nehemiah African American Leaders Program and Metro Chamber Leadership program.  \n\nJoin this event to see what its all about!
X-ALT-DESC;FMTTYPE=text/html:Learn from the Gallup experts why strengths and talents matter and how the best organizations and businesses are doing this.  \n\nSeveral large corporations in Sacramento are using the Gallup research and strength based methods - Wells Farge\, Teichert Corporation\, BofA Youth Leaders Program\, Nehemiah African American Leaders Program and Metro Chamber Leadership program.  \n\nJoin this event to see what its all about!
LOCATION:5115 Dudley Blvd\, McClellan \, CA 95652 Twin Rivers Unified District Office
UID:e.2957.968
SEQUENCE:3
DTSTAMP:20260422T182646Z
URL:https://www.westsacramentochamber.com/events/details/ydn-gallup-special-event-breaking-all-the-rules-improving-organizational-productivity-968
END:VEVENT

END:VCALENDAR
