BEGIN:VCALENDAR
VERSION:2.0
PRODID:-//ChamberMaster//Event Calendar 2.0//EN
METHOD:PUBLISH
X-PUBLISHED-TTL:P3D
REFRESH-INTERVAL:P3D
CALSCALE:GREGORIAN
BEGIN:VEVENT
DTSTART:20091121T160000Z
DTEND:20091122T230000Z
X-MICROSOFT-CDO-ALLDAYEVENT:FALSE
SUMMARY:Yard Sale
DESCRIPTION:A two-house yard sale will be held to benefit the Sacramento Area Animal Coalition's (SAAC\, http://www.sacanimal.org/) spay/neuter programs. Items for sale include furniture\, rugs\, televisions\, computers\, clothing\, jewelry\, cookware and household items\, bicycles\, musical instruments and more!\n\nOn Saturday and Sunday\, November 21 and 22 from 8 a.m. to 3 p.m. at 2901 Claudia Court\, West Sacramento\nCash only
X-ALT-DESC;FMTTYPE=text/html:A two-house yard sale will be held to benefit the Sacramento Area Animal Coalition's (SAAC\, http://www.sacanimal.org/) spay/neuter programs. Items for sale include furniture\, rugs\, televisions\, computers\, clothing\, jewelry\, cookware and household items\, bicycles\, musical instruments and more!\n\nOn Saturday and Sunday\, November 21 and 22 from 8 a.m. to 3 p.m. at 2901 Claudia Court\, West Sacramento\nCash only
LOCATION:2901 Claudia Court\, West Sacramento\, CA 95961 2901 Claudia Court\, West Sacramento
UID:e.2957.913
SEQUENCE:3
DTSTAMP:20260424T112256Z
URL:https://www.westsacramentochamber.com/events/details/yard-sale-913
END:VEVENT

END:VCALENDAR
