BEGIN:VCALENDAR
VERSION:2.0
PRODID:-//ChamberMaster//Event Calendar 2.0//EN
METHOD:PUBLISH
X-PUBLISHED-TTL:P3D
REFRESH-INTERVAL:P3D
CALSCALE:GREGORIAN
BEGIN:VEVENT
DTSTART:20100314T200000Z
DTEND:20100314T230000Z
X-MICROSOFT-CDO-ALLDAYEVENT:FALSE
SUMMARY:Workshop: Yes\, You Can Change The World
DESCRIPTION:In celebration of The Season For Nonviolence\, we are bringing Aman Motwane to our Center. Aman\, a Hindu with a New Thought heart and mind\, will share a way for us to heal all of our relationships\, heal ourselves\, and heal the world. Here's some of what Aman covers in his workshop: "How to see everyone-even difficult people\, even needy people\, even demanding people\, even people who are abusive\, even people who lack confidence-in a whole new way that transforms your relationship with them...and also transforms their life and the world" $25 advance/$30 door.
X-ALT-DESC;FMTTYPE=text/html:In celebration of The Season For Nonviolence\, we are bringing Aman Motwane to our Center. Aman\, a Hindu with a New Thought heart and mind\, will share a way for us to heal all of our relationships\, heal ourselves\, and heal the world. Here's some of what Aman covers in his workshop: "How to see everyone-even difficult people\, even needy people\, even demanding people\, even people who are abusive\, even people who lack confidence-in a whole new way that transforms your relationship with them...and also transforms their life and the world" $25 advance/$30 door.
LOCATION:Center for Spiritual Awareness 1275 Starboard Drive\, Sacramento\, CA 95691 Center for Spiritual Awareness 1275 Starboard Drive Sacramento\, CA 95691 www.csasacramento.org
UID:e.2957.973
SEQUENCE:3
DTSTAMP:20260422T195123Z
URL:https://www.westsacramentochamber.com/events/details/workshop-yes-you-can-change-the-world-973
END:VEVENT

END:VCALENDAR
