BEGIN:VCALENDAR
VERSION:2.0
PRODID:-//ChamberMaster//Event Calendar 2.0//EN
METHOD:PUBLISH
X-PUBLISHED-TTL:P3D
REFRESH-INTERVAL:P3D
CALSCALE:GREGORIAN
BEGIN:VEVENT
DTSTART:20110309T153000Z
DTEND:20110309T170000Z
X-MICROSOFT-CDO-ALLDAYEVENT:FALSE
SUMMARY:Workshop: Cost-Saving strategies for your Business
DESCRIPTION:Yolo Federal Credit Union will host a FREE workshop on Cost-Saving Strategies for your Business.  Guest speaker: PG&E. Please RSVP to reserve your space.
X-ALT-DESC;FMTTYPE=text/html:Yolo Federal Credit Union will host a FREE workshop on Cost-Saving Strategies for your Business.  Guest speaker: PG&E. Please RSVP to reserve your space.
LOCATION:2171 Cowell Blvd\, Davis\, CA 95618 Yolo FCU
UID:e.2957.1053
SEQUENCE:3
DTSTAMP:20260422T230817Z
URL:https://www.westsacramentochamber.com/events/details/workshop-cost-saving-strategies-for-your-business-1053
END:VEVENT

END:VCALENDAR
