BEGIN:VCALENDAR
VERSION:2.0
PRODID:-//ChamberMaster//Event Calendar 2.0//EN
METHOD:PUBLISH
X-PUBLISHED-TTL:P3D
REFRESH-INTERVAL:P3D
CALSCALE:GREGORIAN
BEGIN:VEVENT
DTSTART:20130620T183000Z
DTEND:20130620T203000Z
X-MICROSOFT-CDO-ALLDAYEVENT:FALSE
SUMMARY:Women Who Mean Business
DESCRIPTION:The Sacramento Business Journal is proud to announce the 2013 Women Who Mean Business. Join us for this annual luncheon as we celebrate this year's honorees and all they have contributed to make our region exceptional.
X-ALT-DESC;FMTTYPE=text/html:The Sacramento Business Journal is proud to announce the 2013 Women Who Mean Business. Join us for this annual luncheon as we celebrate this year's honorees and all they have contributed to make our region exceptional.
LOCATION:Hyatt Regency Sacramento\, Sacramento\, CA 95814 Hyatt Regency Sacramento\, 1209 L Street Sacramento CA 95814
UID:e.2957.1198
SEQUENCE:3
DTSTAMP:20260423T103926Z
URL:https://www.westsacramentochamber.com/events/details/women-who-mean-business-1198
END:VEVENT

END:VCALENDAR
