BEGIN:VCALENDAR
VERSION:2.0
PRODID:-//ChamberMaster//Event Calendar 2.0//EN
METHOD:PUBLISH
X-PUBLISHED-TTL:P3D
REFRESH-INTERVAL:P3D
CALSCALE:GREGORIAN
BEGIN:VEVENT
DTSTART:20100306T180000Z
DTEND:20100307T000000Z
X-MICROSOFT-CDO-ALLDAYEVENT:FALSE
SUMMARY:Women's Honoring Your Sacred Self Retreat
DESCRIPTION:In this wonderful day we will focus on relaxing and renewal\, centering ourselves and coming together as women. We will provide meditations for finding your power source\, acceptance and love of our bodies and our selves. We will do powerful work with partners to release fears\, insecurities and empower each other. We will explore dream boards and visions for our future. A day with easy stretching\, some journaling and time for sharing. This day is geared for all women but especially Women who juggle too many roles and have hurried lives. You will leave feeling relaxed\, centered\, renewed and knowing your Power Source.
X-ALT-DESC;FMTTYPE=text/html:In this wonderful day we will focus on relaxing and renewal\, centering ourselves and coming together as women. We will provide meditations for finding your power source\, acceptance and love of our bodies and our selves. We will do powerful work with partners to release fears\, insecurities and empower each other. We will explore dream boards and visions for our future. A day with easy stretching\, some journaling and time for sharing. This day is geared for all women but especially Women who juggle too many roles and have hurried lives. You will leave feeling relaxed\, centered\, renewed and knowing your Power Source.
LOCATION:1275 Starboard Drive\, West Sacramento\, CA 95691 Center for Spiritual Awareness
UID:e.2957.965
SEQUENCE:3
DTSTAMP:20260422T182646Z
URL:https://www.westsacramentochamber.com/events/details/women-s-honoring-your-sacred-self-retreat-965
END:VEVENT

END:VCALENDAR
