BEGIN:VCALENDAR
VERSION:2.0
PRODID:-//ChamberMaster//Event Calendar 2.0//EN
METHOD:PUBLISH
X-PUBLISHED-TTL:P3D
REFRESH-INTERVAL:P3D
CALSCALE:GREGORIAN
BEGIN:VEVENT
DTSTART:20100327T170000Z
DTEND:20100327T230000Z
X-MICROSOFT-CDO-ALLDAYEVENT:FALSE
SUMMARY:Women's Breast Cancer Retreat
DESCRIPTION:In this wonderful complimentary retreat and day we will focus on relaxing and focusing on wellness. We will provide meditations for healing\, affirmations for power\, acceptance and love of our bodies and our lives. We will do powerful work with partners to release fears and empower each other. We will explore light stretching and massage important for breast cancer survivors. We will do important work with vision\, dream boards and create friendships and support systems. This day is geared for breast cancer patients\, survivors and their support women. You will leave feeling well\, healthy\, whole\, empowered\, supported\, loved and that you are not alone.
X-ALT-DESC;FMTTYPE=text/html:In this wonderful complimentary retreat and day we will focus on relaxing and focusing on wellness. We will provide meditations for healing\, affirmations for power\, acceptance and love of our bodies and our lives. We will do powerful work with partners to release fears and empower each other. We will explore light stretching and massage important for breast cancer survivors. We will do important work with vision\, dream boards and create friendships and support systems. This day is geared for breast cancer patients\, survivors and their support women. You will leave feeling well\, healthy\, whole\, empowered\, supported\, loved and that you are not alone.
LOCATION:1275 Starboard Drive\, West Sacramento\, CA 95691 Center for Spiritual Awareness
UID:e.2957.966
SEQUENCE:3
DTSTAMP:20260422T182646Z
URL:https://www.westsacramentochamber.com/events/details/women-s-breast-cancer-retreat-966
END:VEVENT

END:VCALENDAR
