BEGIN:VCALENDAR
VERSION:2.0
PRODID:-//ChamberMaster//Event Calendar 2.0//EN
METHOD:PUBLISH
X-PUBLISHED-TTL:P3D
REFRESH-INTERVAL:P3D
CALSCALE:GREGORIAN
BEGIN:VEVENT
DTSTART:20221203T020000Z
DTEND:20221203T043000Z
X-MICROSOFT-CDO-ALLDAYEVENT:FALSE
SUMMARY:Winter Wonderland Tree Lighting
DESCRIPTION:Join the City of West Sacramento and the West Sacramento Chamber of Commerce as we kick off the holiday season with the annual Winter Wonderland Tree Lighting festivities in front of City Hall!\n\n\n\nThis is a FREE community event\, so gather up your family\, friends\, and neighbors and join the community for an evening of holiday fun! Enjoy coffee\, hot cocoa\, cookies\, live local musical performances\, and FREE pictures with Santa!\n\n\n\nNo need to register\, just show up in front of City Hall in your festive holiday outfit and plan on having tons of fun!
X-ALT-DESC;FMTTYPE=text/html:<span style="color: rgb(51\, 51\, 51)\; font-family: sans-serif\, Arial\, Verdana\, &quot\;Trebuchet MS&quot\;\; font-size: 13px\; background-color: rgb(255\, 255\, 255)\;">Join the City of West Sacramento and the West Sacramento Chamber of Commerce as we kick off the holiday season with the annual Winter Wonderland Tree Lighting festivities in front of City Hall!</span><br style="color: rgb(51\, 51\, 51)\; font-family: sans-serif\, Arial\, Verdana\, &quot\;Trebuchet MS&quot\;\; font-size: 13px\;" />\n<br style="color: rgb(51\, 51\, 51)\; font-family: sans-serif\, Arial\, Verdana\, &quot\;Trebuchet MS&quot\;\; font-size: 13px\;" />\n<span style="color: rgb(51\, 51\, 51)\; font-family: sans-serif\, Arial\, Verdana\, &quot\;Trebuchet MS&quot\;\; font-size: 13px\; background-color: rgb(255\, 255\, 255)\;">This is a&nbsp\;</span><strong style="color: rgb(51\, 51\, 51)\; font-family: sans-serif\, Arial\, Verdana\, &quot\;Trebuchet MS&quot\;\; font-size: 13px\;">FREE</strong><span style="color: rgb(51\, 51\, 51)\; font-family: sans-serif\, Arial\, Verdana\, &quot\;Trebuchet MS&quot\;\; font-size: 13px\; background-color: rgb(255\, 255\, 255)\;">&nbsp\;community event\, so gather up your family\, friends\, and neighbors and join the community for an evening of holiday fun! Enjoy coffee\, hot cocoa\, cookies\, live local musical performances\, and&nbsp\;</span><strong style="color: rgb(51\, 51\, 51)\; font-family: sans-serif\, Arial\, Verdana\, &quot\;Trebuchet MS&quot\;\; font-size: 13px\;">FREE pictures with Santa!</strong><br style="color: rgb(51\, 51\, 51)\; font-family: sans-serif\, Arial\, Verdana\, &quot\;Trebuchet MS&quot\;\; font-size: 13px\;" />\n<br style="color: rgb(51\, 51\, 51)\; font-family: sans-serif\, Arial\, Verdana\, &quot\;Trebuchet MS&quot\;\; font-size: 13px\;" />\n<span style="color: rgb(51\, 51\, 51)\; font-family: sans-serif\, Arial\, Verdana\, &quot\;Trebuchet MS&quot\;\; font-size: 13px\; background-color: rgb(255\, 255\, 255)\;">No need to register\, just show up in front of City Hall in your festive holiday outfit and plan on having tons of fun!&nbsp\;</span>
LOCATION:Civic Center 1110 West Capitol Ave West Sacramento\, CA 95691
UID:e.2957.3574
SEQUENCE:3
DTSTAMP:20260425T131602Z
URL:https://www.westsacramentochamber.com/events/details/winter-wonderland-tree-lighting-3574
END:VEVENT

END:VCALENDAR
