BEGIN:VCALENDAR
VERSION:2.0
PRODID:-//ChamberMaster//Event Calendar 2.0//EN
METHOD:PUBLISH
X-PUBLISHED-TTL:P3D
REFRESH-INTERVAL:P3D
CALSCALE:GREGORIAN
BEGIN:VEVENT
DTSTART:20090829T000000Z
DTEND:20090829T020000Z
X-MICROSOFT-CDO-ALLDAYEVENT:FALSE
SUMMARY:Wine Crush & Bottling Party
DESCRIPTION:On Friday\, August 28\, 2009 WSEF will have a "Wine Crush and Bottling Party at the Old Sugar Mill\, 35265 Willow Avenue\, Clarksburg\, CA 95612 (916-744-1615) from 5pm to 7pm. Tickets are $25.00 per person. This is a fundraiser to raise moneys to fund our grant program that provides mini-grants to educational programs in the Washington Unified School District. Please press the "Donate" link on our website (www.wsef.net) at the top of the page to get more information on how to buy your tickets or make a donation. Thank You. Len Strickland\, President
X-ALT-DESC;FMTTYPE=text/html:On Friday\, August 28\, 2009 WSEF will have a "Wine Crush and Bottling Party at the Old Sugar Mill\, 35265 Willow Avenue\, Clarksburg\, CA 95612 (916-744-1615) from 5pm to 7pm. Tickets are $25.00 per person. This is a fundraiser to raise moneys to fund our grant program that provides mini-grants to educational programs in the Washington Unified School District. Please press the "Donate" link on our website (www.wsef.net) at the top of the page to get more information on how to buy your tickets or make a donation. Thank You. Len Strickland\, President 
LOCATION:35265 Willow Avenue\, Clarksburg\, CA 95612 From downtown West Sacramento - Take Jefferson Blvd. south ( about 15 miles) along the deep water channel to Willow Avenue\; turn left (go about 3 miles)\; turn right on Willow Avenue. The Old Sugar Mill is on your left. Parking is free.
UID:e.2957.891
SEQUENCE:3
DTSTAMP:20260425T160441Z
URL:https://www.westsacramentochamber.com/events/details/wine-crush-bottling-party-891
END:VEVENT

END:VCALENDAR
