BEGIN:VCALENDAR
VERSION:2.0
PRODID:-//ChamberMaster//Event Calendar 2.0//EN
METHOD:PUBLISH
X-PUBLISHED-TTL:P3D
REFRESH-INTERVAL:P3D
CALSCALE:GREGORIAN
BEGIN:VEVENT
DTSTART:20090318T010000Z
DTEND:20090318T010000Z
X-MICROSOFT-CDO-ALLDAYEVENT:FALSE
SUMMARY:What's Up With the Teen Party Scene: Parent Information Night
DESCRIPTION:What's Up With the Teen Party Scene: Parent Information Night.  Dining at 6:00 PM\, Presentation at 6:30 PM.  Presentation to include: Welcome by Mayor Cabaldon\, Community Resources and Networking.  Contact Brandi for more information at (916) 617-4615.
X-ALT-DESC;FMTTYPE=text/html:What's Up With the Teen Party Scene: Parent Information Night.  Dining at 6:00 PM\, Presentation at 6:30 PM.  Presentation to include: Welcome by Mayor Cabaldon\, Community Resources and Networking.  Contact Brandi for more information at (916) 617-4615.
LOCATION:River City High School Cafeteria\, West Sacramento\, CA 95691
UID:e.2957.844
SEQUENCE:3
DTSTAMP:20260425T204352Z
URL:https://www.westsacramentochamber.com/events/details/what-s-up-with-the-teen-party-scene-parent-information-night-844
END:VEVENT

END:VCALENDAR
