BEGIN:VCALENDAR
VERSION:2.0
PRODID:-//ChamberMaster//Event Calendar 2.0//EN
METHOD:PUBLISH
X-PUBLISHED-TTL:P3D
REFRESH-INTERVAL:P3D
CALSCALE:GREGORIAN
BEGIN:VEVENT
DTSTART:20140620T003000Z
DTEND:20140620T023000Z
X-MICROSOFT-CDO-ALLDAYEVENT:FALSE
SUMMARY:What's Hoppening at the West Sacramento Farmers Market.
DESCRIPTION:ONLINE REGISTRATION IS NOW CLOSED  -  TICKETS WILL STILL BE AVAILABLE AT THE EVENT\n\nCome see What's Hoppening at the West Sacramento Farmers Market on June 19th for our first beer event of the 3 part series! \n\n$15 will get you beer from Bike Dog Brewing Company\, Jack Rabbit Brewing Company and New Glory Brewing Company.Enjoy live music by Banjo Fiddle\, local bluegrass duo. Cheers!
X-ALT-DESC;FMTTYPE=text/html:<p></p><p></p><p></p><p></p><p></p><p><strong>ONLINE REGISTRATION IS NOW CLOSED&nbsp\; -&nbsp\; TICKETS WILL STILL&nbsp\;BE AVAILABLE AT THE EVENT</strong><br /><br />Come&nbsp\;see What's Hoppening at&nbsp\;the West Sacramento Farmers Market on&nbsp\;June 19th for our first beer event of the 3 part&nbsp\;series! <br /><br />$15 will get you beer from Bike Dog Brewing Company\, Jack Rabbit Brewing Company and New Glory Brewing Company.</p><p>Enjoy live music by Banjo Fiddle\, local bluegrass duo.&nbsp\;</p><p>Cheers!</p>
LOCATION:West Sacramento Farmers Market 1110 West Capitol Ave\, West Sacramento \, CA 95691
UID:e.2957.1324
SEQUENCE:3
DTSTAMP:20260423T104042Z
URL:https://www.westsacramentochamber.com/events/details/what-s-hoppening-at-the-west-sacramento-farmers-market-1324
END:VEVENT

END:VCALENDAR
