BEGIN:VCALENDAR
VERSION:2.0
PRODID:-//ChamberMaster//Event Calendar 2.0//EN
METHOD:PUBLISH
X-PUBLISHED-TTL:P3D
REFRESH-INTERVAL:P3D
CALSCALE:GREGORIAN
BEGIN:VEVENT
DTSTART:20130829T233000Z
DTEND:20130830T023000Z
X-MICROSOFT-CDO-ALLDAYEVENT:FALSE
SUMMARY:What's Hoppening at the Market Beer and Wine Festival
DESCRIPTION:PLEASE CALL THE CHAMBER TO RESERVE YOUR TICKETS\, ONLINE REGISTRATION IS NOW CLOSED. \n\nEnjoy an Evening of our Regions Best Beers and Breweries!\nPresale tickets $15~ $20 at the door\nIncludes- Ten 4oz pours\nMusic by Mike McGowan and the Mighty Delta Roadmasters
X-ALT-DESC;FMTTYPE=text/html:PLEASE CALL THE CHAMBER TO RESERVE YOUR TICKETS\, ONLINE REGISTRATION IS NOW CLOSED. \n\nEnjoy an Evening of our Regions Best Beers and Breweries!\nPresale tickets $15~ $20 at the door\nIncludes- Ten 4oz pours\nMusic by Mike McGowan and the Mighty Delta Roadmasters 
LOCATION:West Sacramento Farmers Market- West Capitol Ave in front of city hall\, West Sacramento \, Ca 95691
UID:e.2957.1210
SEQUENCE:3
DTSTAMP:20260423T121406Z
URL:https://www.westsacramentochamber.com/events/details/what-s-hoppening-at-the-market-beer-and-wine-festival-1210
END:VEVENT

END:VCALENDAR
