BEGIN:VCALENDAR
VERSION:2.0
PRODID:-//ChamberMaster//Event Calendar 2.0//EN
METHOD:PUBLISH
X-PUBLISHED-TTL:P3D
REFRESH-INTERVAL:P3D
CALSCALE:GREGORIAN
BEGIN:VEVENT
DTSTART:20110519T233000Z
DTEND:20110916T030000Z
X-MICROSOFT-CDO-ALLDAYEVENT:FALSE
SUMMARY:West Sacramento Farmers Market
DESCRIPTION:
X-ALT-DESC;FMTTYPE=text/html:
LOCATION:West Capitol Ave\, West Sacramento\, Ca 95691
UID:e.2957.1038
SEQUENCE:3
DTSTAMP:20260422T165114Z
URL:https://www.westsacramentochamber.com/events/details/west-sacramento-farmers-market-05-19-2011-1038
END:VEVENT

END:VCALENDAR
