BEGIN:VCALENDAR
VERSION:2.0
PRODID:-//ChamberMaster//Event Calendar 2.0//EN
METHOD:PUBLISH
X-PUBLISHED-TTL:P3D
REFRESH-INTERVAL:P3D
CALSCALE:GREGORIAN
BEGIN:VEVENT
DTSTART:20131016T153000Z
DTEND:20131016T210000Z
X-MICROSOFT-CDO-ALLDAYEVENT:FALSE
SUMMARY:West Sacramento Business Walk
DESCRIPTION:Interested in breaking down barriers to business success in our region? Here's the perfect opportunity to get involved. \nJoin the City of West Sacramento and the West Sacramento Chamber of Commerce\, in partnership with the Sacramento Metro Chamber as they drop in on local businesses to hear first-hand feedback regarding the state of business. \nYour participation will help gather the information necessary to implement initiatives that enhance the success of local businesses. You will also get an exclusive preview of the findings that afternoon when each team of walkers reports on what they found in talking to the businesses they visited.
X-ALT-DESC;FMTTYPE=text/html:<p><b>Interested in breaking down barriers to business success in our region? Here's the perfect opportunity to get involved.</b> </p>\n<p>Join the City of West Sacramento and the West Sacramento Chamber of Commerce\, in partnership with the Sacramento Metro Chamber as they drop in on local businesses to hear first-hand feedback regarding the state of business. </p>\n<p>Your participation will help gather the information necessary to implement initiatives that enhance the success of local businesses. You will also get an exclusive preview of the findings that afternoon when each team of walkers reports on what they found in talking to the businesses they visited. </p>\n<p>&nbsp\;</p>
LOCATION:
UID:e.2957.1176
SEQUENCE:3
DTSTAMP:20260419T233343Z
URL:https://www.westsacramentochamber.com/events/details/west-sacramento-business-walk-10-16-2013-1176
END:VEVENT

END:VCALENDAR
