BEGIN:VCALENDAR
VERSION:2.0
PRODID:-//ChamberMaster//Event Calendar 2.0//EN
METHOD:PUBLISH
X-PUBLISHED-TTL:P3D
REFRESH-INTERVAL:P3D
CALSCALE:GREGORIAN
BEGIN:VEVENT
DTSTART:20110326T160000Z
DTEND:20110326T230000Z
X-MICROSOFT-CDO-ALLDAYEVENT:FALSE
SUMMARY:Welcome to spring Event
DESCRIPTION:Free event to the community please joint us to celebrate spring will have entertainment  for the family music performers and the opportunity to network with others business. food vendors and more
X-ALT-DESC;FMTTYPE=text/html:Free event to the community please joint us to celebrate spring will have entertainment  for the family music performers and the opportunity to network with others business. food vendors and more 
LOCATION:2929 Fulton Ave \, sacramento \, ca 95821 from business 80 exit on Marconi ave turn left on Fulton parking lot
UID:e.2957.1059
SEQUENCE:3
DTSTAMP:20260424T082337Z
URL:https://www.westsacramentochamber.com/events/details/welcome-to-spring-event-1059
END:VEVENT

END:VCALENDAR
