BEGIN:VCALENDAR
VERSION:2.0
PRODID:-//ChamberMaster//Event Calendar 2.0//EN
METHOD:PUBLISH
X-PUBLISHED-TTL:P3D
REFRESH-INTERVAL:P3D
CALSCALE:GREGORIAN
BEGIN:VEVENT
DTSTART:20130323T180000Z
DTEND:20130323T210000Z
X-MICROSOFT-CDO-ALLDAYEVENT:FALSE
SUMMARY:Wag Hotels 4th Annual Easter Egg Hunt
DESCRIPTION:Wag Hotels Easter Egg Hunt for Dogs!
X-ALT-DESC;FMTTYPE=text/html:Wag Hotels Easter Egg Hunt for Dogs!
LOCATION:601 Alhambra Blvd\, East Sacramento\, CA 95816 Mckinley Park\, Sacramento\, CA.
UID:e.2957.1192
SEQUENCE:3
DTSTAMP:20260423T103727Z
URL:https://www.westsacramentochamber.com/events/details/wag-hotels-4th-annual-easter-egg-hunt-1192
END:VEVENT

END:VCALENDAR
