BEGIN:VCALENDAR
VERSION:2.0
PRODID:-//ChamberMaster//Event Calendar 2.0//EN
METHOD:PUBLISH
X-PUBLISHED-TTL:P3D
REFRESH-INTERVAL:P3D
CALSCALE:GREGORIAN
BEGIN:VEVENT
DTSTART:20091112T190000Z
DTEND:20091112T230000Z
X-MICROSOFT-CDO-ALLDAYEVENT:FALSE
SUMMARY:Veteran's Opportunity Expo
DESCRIPTION:RecruitMilitary is hosting an Opportunity Expo in the Sacramento area to benefit job-seeking veterans\, transitioning military personnel\, members of the Guard and Reserve\, and military family members.  At this event\, recruiters for employers\, franchisors\, and educational institutions will meet face-to-face with these highly qualified and highly sought-after candidates.  We invite you to join them!\n\nThe Expo will be held on Thursday\, November 12\, 2009 from 11:00am – 3:00pm at the Aerospace Museum of California.  Additional details on this event can be found here:\nhttp://www2.recruitmilitary.com/expos/256-Sacramento/employers/information \n\nMembers of the West Sacramento Chamber of Commerce who register to participate in this event are entitled to a 10% discount.  To take advantage of this offer\, contact RecruitMilitary's Matt Murphy and mention your membership.  Matt can be reached at Matt@RecruitMilitary.com or 610-933-3331.\n \nAt a RecruitMilitary Expo\, you can begin the selection process with what is normally one of the final stages—a face-to-face meeting with the candidate. If you are looking to hire employees this year\, or have a franchise / educational opportunity to offer\, this is an event you won't want to miss — at a price you can't beat!
X-ALT-DESC;FMTTYPE=text/html:RecruitMilitary is hosting an Opportunity Expo in the Sacramento area to benefit job-seeking veterans\, transitioning military personnel\, members of the Guard and Reserve\, and military family members.  At this event\, recruiters for employers\, franchisors\, and educational institutions will meet face-to-face with these highly qualified and highly sought-after candidates.  We invite you to join them!\n\nThe Expo will be held on Thursday\, November 12\, 2009 from 11:00am – 3:00pm at the Aerospace Museum of California.  Additional details on this event can be found here:\nhttp://www2.recruitmilitary.com/expos/256-Sacramento/employers/information \n\nMembers of the West Sacramento Chamber of Commerce who register to participate in this event are entitled to a 10% discount.  To take advantage of this offer\, contact RecruitMilitary's Matt Murphy and mention your membership.  Matt can be reached at Matt@RecruitMilitary.com or 610-933-3331.\n \nAt a RecruitMilitary Expo\, you can begin the selection process with what is normally one of the final stages—a face-to-face meeting with the candidate. If you are looking to hire employees this year\, or have a franchise / educational opportunity to offer\, this is an event you won't want to miss — at a price you can't beat!\n
LOCATION:3200 Freedom Park Drive\, McClellan\, CA 95652 Aerospace Museum of California 3200 Freedom Park Drive McClellan\, CA 95652
UID:e.2957.900
SEQUENCE:3
DTSTAMP:20260424T112428Z
URL:https://www.westsacramentochamber.com/events/details/veteran-s-opportunity-expo-900
END:VEVENT

END:VCALENDAR
