BEGIN:VCALENDAR
VERSION:2.0
PRODID:-//ChamberMaster//Event Calendar 2.0//EN
METHOD:PUBLISH
X-PUBLISHED-TTL:P3D
REFRESH-INTERVAL:P3D
CALSCALE:GREGORIAN
BEGIN:VEVENT
DTSTART:20241112T020000Z
DTEND:20241112T020000Z
X-MICROSOFT-CDO-ALLDAYEVENT:FALSE
SUMMARY:Vested Interest Financial Summer Workshop
DESCRIPTION:
X-ALT-DESC;FMTTYPE=text/html:
LOCATION:1540 Jefferson Blvd. West Sacramento\, CA 95691
UID:e.2957.4979
SEQUENCE:3
DTSTAMP:20260423T121217Z
URL:https://www.westsacramentochamber.com/events/details/vested-interest-financial-summer-workshop-11-11-2024-4979
END:VEVENT

END:VCALENDAR
