BEGIN:VCALENDAR
VERSION:2.0
PRODID:-//ChamberMaster//Event Calendar 2.0//EN
METHOD:PUBLISH
X-PUBLISHED-TTL:P3D
REFRESH-INTERVAL:P3D
CALSCALE:GREGORIAN
BEGIN:VEVENT
DTSTART:20260519T190000Z
DTEND:20260519T200000Z
X-MICROSOFT-CDO-ALLDAYEVENT:FALSE
SUMMARY:Understanding Medicare
DESCRIPTION:As we approach retirement\, there are many crucial steps and topics to consider before moving onto the next phase of life. Medicare is one of the most important. In this presentation\, led by Chris Frederick of Good Shepherd Insurance\, we will discuss the ABCs of what it takes to enroll\, qualify for\, and identify different types of Medicare coverage.  \n\n \nTopics Covered\n\n\n  Financial Awareness\n\n  Debt management\n\n  Building better habits
X-ALT-DESC;FMTTYPE=text/html:<span style="color:rgb(74\, 74\, 74)\; font-family:outfit\,sans-serif\; font-size:16px">As we approach retirement\, there are many crucial steps and topics to consider before moving onto the next phase of life. Medicare is one of the most important. In this presentation\, led by Chris Frederick of Good Shepherd Insurance\, we will discuss the ABCs of what it takes to enroll\, qualify for\, and identify different types of Medicare coverage.&nbsp\;&nbsp\;</span><br />\n&nbsp\;\n<h4>Topics Covered</h4>\n\n<div>\n<div>&bull\; Financial Awareness</div>\n\n<div>&bull\; Debt management</div>\n\n<div>&bull\; Building better habits</div>\n</div>\n
LOCATION:FREE Virtual Webinar
UID:e.2957.5219
SEQUENCE:3
DTSTAMP:20260424T081714Z
URL:https://www.westsacramentochamber.com/events/details/understanding-medicare-05-19-2026-5219
END:VEVENT

END:VCALENDAR
