BEGIN:VCALENDAR
VERSION:2.0
PRODID:-//ChamberMaster//Event Calendar 2.0//EN
METHOD:PUBLISH
X-PUBLISHED-TTL:P3D
REFRESH-INTERVAL:P3D
CALSCALE:GREGORIAN
BEGIN:VEVENT
DTSTART:20120216T000000Z
DTEND:20120216T060000Z
X-MICROSOFT-CDO-ALLDAYEVENT:FALSE
SUMMARY:Un-Valentine's Day at Ten22
DESCRIPTION:Need a break from cupid\, couples and romance? Celebrate Un-Valentine's Day with us!   \n\nStop in for dinner on Wednesday\, February 15 and enjoy double molasses and sweet garlic ribs\, spicy peanut slaw and a generous helping of Chef Jay's tasty garlic fries - because a little mess never hurt anybody - and toast the end of Valentine's Day with our refreshingly bitter "Love Bites" cocktail.   \n\nGroups of six or more will also receive 25% off their food bill.  Discount applies to February 15 only\; not valid for private parties\, special menus or holidays.  Not valid with any other offer.
X-ALT-DESC;FMTTYPE=text/html:Need a break from cupid\, couples and romance? Celebrate Un-Valentine's Day with us!   \n\nStop in for dinner on Wednesday\, February 15 and enjoy double molasses and sweet garlic ribs\, spicy peanut slaw and a generous helping of Chef Jay's tasty garlic fries - because a little mess never hurt anybody - and toast the end of Valentine's Day with our refreshingly bitter "Love Bites" cocktail.   \n\nGroups of six or more will also receive 25% off their food bill.  Discount applies to February 15 only\; not valid for private parties\, special menus or holidays.  Not valid with any other offer.   \n\n
LOCATION:1022 Second Street \, Sacramento \, CA 95814 Ten22 1022 Second Street Sacramento\, CA 95814
UID:e.2957.1117
SEQUENCE:3
DTSTAMP:20260424T112443Z
URL:https://www.westsacramentochamber.com/events/details/un-valentine-s-day-at-ten22-1117
END:VEVENT

END:VCALENDAR
