BEGIN:VCALENDAR
VERSION:2.0
PRODID:-//ChamberMaster//Event Calendar 2.0//EN
METHOD:PUBLISH
X-PUBLISHED-TTL:P3D
REFRESH-INTERVAL:P3D
CALSCALE:GREGORIAN
BEGIN:VEVENT
DTSTART:20130827T153000Z
DTEND:20130827T163000Z
X-MICROSOFT-CDO-ALLDAYEVENT:FALSE
SUMMARY:Tuesdays with Theresa and More!
DESCRIPTION:Don't miss this great opportunity to mix and mingle with other small business owners and learn how the Business Journal can be a valuable resource for your business. Pick up tips on how to effectively use the paper to prospect clients and build your database of business leads.\n\nFeatured speakers:\nGary J. McDonald\, President and CEO\, Senior Gleaners\nNancy Milton\, Owner\, Progress Mediation\nMJ Stoneking\, Owner\, Capitol City Communications
X-ALT-DESC;FMTTYPE=text/html:Don't miss this great opportunity to mix and mingle with other small business owners and learn how the Business Journal can be a valuable resource for your business. Pick up tips on how to effectively use the paper to prospect clients and build your database of business leads.\n\nFeatured speakers:\nGary J. McDonald\, President and CEO\, Senior Gleaners\nNancy Milton\, Owner\, Progress Mediation\nMJ Stoneking\, Owner\, Capitol City Communications\n
LOCATION:IKEA\, West Sacramento\, CA 95605 IKEA\, 700 IKEA Court\, West Sacramento
UID:e.2957.1209
SEQUENCE:3
DTSTAMP:20260423T134158Z
URL:https://www.westsacramentochamber.com/events/details/tuesdays-with-theresa-and-more-1209
END:VEVENT

END:VCALENDAR
