BEGIN:VCALENDAR
VERSION:2.0
PRODID:-//ChamberMaster//Event Calendar 2.0//EN
METHOD:PUBLISH
X-PUBLISHED-TTL:P3D
REFRESH-INTERVAL:P3D
CALSCALE:GREGORIAN
BEGIN:VEVENT
DTSTART:20241024T000000Z
DTEND:20241024T020000Z
X-MICROSOFT-CDO-ALLDAYEVENT:FALSE
SUMMARY:Trunk or Treat
DESCRIPTION:Get ready for a spooktacular time at our annual Trunk or Treat! We're looking for creative and fun-loving volunteers to help make this event unforgettable by decorating trunks. Whether you're spooky\, silly\, or somewhere in between\, we can't wait to see your designs light up the night!
X-ALT-DESC;FMTTYPE=text/html:<span style="color: rgb(5\, 5\, 5)\; font-family: &quot\;Segoe UI Historic&quot\;\, &quot\;Segoe UI&quot\;\, Helvetica\, Arial\, sans-serif\; font-size: 15px\; white-space-collapse: preserve\; background-color: rgb(255\, 255\, 255)\;">Get ready for a spooktacular time at our annual Trunk or Treat! We&#39\;re looking for creative and fun-loving volunteers to help make this event unforgettable by decorating trunks. Whether you&#39\;re spooky\, silly\, or somewhere in between\, we can&#39\;t wait to see your designs light up the night!</span>
LOCATION:Lighthouse Charter School 899 Bryte Ave West Sacramento\, CA 95691
UID:e.2957.5001
SEQUENCE:3
DTSTAMP:20260421T080435Z
URL:https://www.westsacramentochamber.com/events/details/trunk-or-treat-5001
END:VEVENT

END:VCALENDAR
