BEGIN:VCALENDAR
VERSION:2.0
PRODID:-//ChamberMaster//Event Calendar 2.0//EN
METHOD:PUBLISH
X-PUBLISHED-TTL:P3D
REFRESH-INTERVAL:P3D
CALSCALE:GREGORIAN
BEGIN:VEVENT
DTSTART:20260512T190000Z
DTEND:20260512T200000Z
X-MICROSOFT-CDO-ALLDAYEVENT:FALSE
SUMMARY:The Journey to Homebuying
DESCRIPTION:Excited about buying your first home\, but not sure if now is the right time? Even with rates on the rise\, our SAFE Mortgage Team is here to navigate you through the current market. Join SAFE's Financial Wellness Team to start your next chapter!\n\n\nTopics Covered\n\n\n\n	Determine homebuying affordability\n	Understand credit criteria\n	The home-buying experience
X-ALT-DESC;FMTTYPE=text/html:<div>Excited about buying your first home\, but not sure if now is the right time? Even with rates on the rise\, our SAFE Mortgage Team is here to navigate you through the current market. Join SAFE&rsquo\;s Financial Wellness Team to start your next chapter!</div>\n\n<div>\n<h4>Topics Covered</h4>\n\n<div>\n<ul>\n	<li>Determine homebuying affordability</li>\n	<li>Understand credit criteria</li>\n	<li>The home-buying experience</li>\n</ul>\n</div>\n</div>\n
LOCATION:FREE Virtual Webinar
UID:e.2957.5217
SEQUENCE:3
DTSTAMP:20260423T220239Z
URL:https://www.westsacramentochamber.com/events/details/the-journey-to-homebuying-05-12-2026-5217
END:VEVENT

END:VCALENDAR
