BEGIN:VCALENDAR
VERSION:2.0
PRODID:-//ChamberMaster//Event Calendar 2.0//EN
METHOD:PUBLISH
X-PUBLISHED-TTL:P3D
REFRESH-INTERVAL:P3D
CALSCALE:GREGORIAN
BEGIN:VEVENT
DTSTART:20110721T190000Z
DTEND:20110721T190000Z
X-MICROSOFT-CDO-ALLDAYEVENT:FALSE
SUMMARY:The Hassle of Performance Appraisals: How to Use Them as More Than Just an Annual Report Card
DESCRIPTION:This hour-long seminar brings a different perspective on annual performance appraisals which brings ease and allows companies to more use out of the once a year process.  For more information or to RSVP please call Dr. Daniel Rockers at 916-492-5056.
X-ALT-DESC;FMTTYPE=text/html:This hour-long seminar brings a different perspective on annual performance appraisals which brings ease and allows companies to more use out of the once a year process.  For more information or to RSVP please call Dr. Daniel Rockers at 916-492-5056.
LOCATION:400 Capitol Mall\, Suite 1800\, Sacramento\, CA 95814 The Wells Fargo Center
UID:e.2957.1083
SEQUENCE:3
DTSTAMP:20260423T121406Z
URL:https://www.westsacramentochamber.com/events/details/the-hassle-of-performance-appraisals-how-to-use-them-as-more-than-just-an-annual-report-card-1083
END:VEVENT

END:VCALENDAR
