BEGIN:VCALENDAR
VERSION:2.0
PRODID:-//ChamberMaster//Event Calendar 2.0//EN
METHOD:PUBLISH
X-PUBLISHED-TTL:P3D
REFRESH-INTERVAL:P3D
CALSCALE:GREGORIAN
BEGIN:VEVENT
DTSTART:20110714T190000Z
DTEND:20110714T190000Z
X-MICROSOFT-CDO-ALLDAYEVENT:FALSE
SUMMARY:The Goal-Setting Dilemma: How to Make Goals Work For You
DESCRIPTION:This hour-long seminar gives tips in setting goals and how to get the most out of them while successfully obtaining your objective.   For more information or to RSVP please call Dr. Daniel Rockers at 916-492-5056.
X-ALT-DESC;FMTTYPE=text/html:This hour-long seminar gives tips in setting goals and how to get the most out of them while successfully obtaining your objective.   For more information or to RSVP please call Dr. Daniel Rockers at 916-492-5056.
LOCATION:400 Capitol Mall\, Suite 1800\, Sacramento\, CA 95814 The Wells Fargo Center
UID:e.2957.1082
SEQUENCE:3
DTSTAMP:20260423T134158Z
URL:https://www.westsacramentochamber.com/events/details/the-goal-setting-dilemma-how-to-make-goals-work-for-you-1082
END:VEVENT

END:VCALENDAR
