BEGIN:VCALENDAR
VERSION:2.0
PRODID:-//ChamberMaster//Event Calendar 2.0//EN
METHOD:PUBLISH
X-PUBLISHED-TTL:P3D
REFRESH-INTERVAL:P3D
CALSCALE:GREGORIAN
BEGIN:VEVENT
DTSTART:20130913T150000Z
DTEND:20130913T170000Z
X-MICROSOFT-CDO-ALLDAYEVENT:FALSE
SUMMARY:The Cost of Reform
DESCRIPTION:What will happen to health care in 2014? What does your business need to be doing right now to prepare? Hear from our expert panel and join the discussion. Network with other industry experts at this must attend breakfast for business owners and those in and impacted by the health care field.\nPanelists include:\n•Lawrence B. Garcia\, Partner\, Gordon & Rees LLP\n•Scott Hauge\, President\, Small Business California\n•David Joyner\, Chief Operating Officer\, Hill Physicians Medical Group\n•Carrie Owen Plietz\, CEO\, Sutter Medical Center\, Sacramento\n•Bruce Thomas\, Vice President\, InterWest Insurance Services\, Inc.\nModerated by Sacramento Business Journal Editor\, Jack Robinson
X-ALT-DESC;FMTTYPE=text/html:What will happen to health care in 2014? What does your business need to be doing right now to prepare? Hear from our expert panel and join the discussion. Network with other industry experts at this must attend breakfast for business owners and those in and impacted by the health care field.\nPanelists include:\n•Lawrence B. Garcia\, Partner\, Gordon & Rees LLP\n•Scott Hauge\, President\, Small Business California\n•David Joyner\, Chief Operating Officer\, Hill Physicians Medical Group\n•Carrie Owen Plietz\, CEO\, Sutter Medical Center\, Sacramento\n•Bruce Thomas\, Vice President\, InterWest Insurance Services\, Inc.\nModerated by Sacramento Business Journal Editor\, Jack Robinson\n
LOCATION:Sheraton Grand Sacramento\, Sacramento\, CA 95814 Sheraton Grand Sacramento\, 1230 J St Sacramento\, CA
UID:e.2957.1212
SEQUENCE:3
DTSTAMP:20260423T103849Z
URL:https://www.westsacramentochamber.com/events/details/the-cost-of-reform-1212
END:VEVENT

END:VCALENDAR
