BEGIN:VCALENDAR
VERSION:2.0
PRODID:-//ChamberMaster//Event Calendar 2.0//EN
METHOD:PUBLISH
X-PUBLISHED-TTL:P3D
REFRESH-INTERVAL:P3D
CALSCALE:GREGORIAN
BEGIN:VEVENT
DTSTART:20241020T000000Z
DTEND:20241020T040000Z
X-MICROSOFT-CDO-ALLDAYEVENT:FALSE
SUMMARY:Taste of West Sac benefiting The Wonder Grove
DESCRIPTION:Join us for an evening supporting The Wonder Grove\, an emerging outdoor children's museum coming to West Sacramento. Don't miss out on this fantastic evening of food\, fun\, and philanthropy. We will have some of the city's tastiest bites\, live entertainment from local performers\, craft brew from Jackrabbit\, and silent auction. Supporting restaurants include Vince's Italian Ristorante\, Franquette\, MOD Pizza\, Sal's Taco's\, and East Side Chef. \n\n\n\nNote:\n\n	This is 21+ event and ticket price does not include alcohol\, be prepared to show ID.\n	Event is rain or shine.\n	Silent auction will close at 8pm.
X-ALT-DESC;FMTTYPE=text/html:Join us for an evening supporting&nbsp\;<strong>The Wonder Grove</strong>\, an emerging outdoor children&#39\;s museum coming to&nbsp\;<strong>West Sacramento</strong>. Don&#39\;t miss out on this fantastic evening of food\, fun\, and philanthropy. We will have some of the city&#39\;s tastiest bites\, live entertainment from local performers\, craft brew from Jackrabbit\, and silent auction. Supporting restaurants include Vince&#39\;s Italian Ristorante\, Franquette\, MOD Pizza\, Sal&#39\;s Taco&#39\;s\, and East Side Chef.&nbsp\;<br />\n<br />\nNote:\n<ul>\n	<li>This is 21+ event and ticket price does not include alcohol\, be prepared to show ID.</li>\n	<li>Event is rain or shine.</li>\n	<li>Silent auction will close at 8pm.&nbsp\;</li>\n	<li>&nbsp\;</li>\n</ul>\n
LOCATION:Jackrabbit Brewing 1323 Terminal Street West Sacramento\, CA 95691
UID:e.2957.5011
SEQUENCE:3
DTSTAMP:20260423T090427Z
URL:https://www.westsacramentochamber.com/events/details/taste-of-west-sac-benefiting-the-wonder-grove-5011
END:VEVENT

END:VCALENDAR
