BEGIN:VCALENDAR
VERSION:2.0
PRODID:-//ChamberMaster//Event Calendar 2.0//EN
METHOD:PUBLISH
X-PUBLISHED-TTL:P3D
REFRESH-INTERVAL:P3D
CALSCALE:GREGORIAN
BEGIN:VEVENT
DTSTART:20081207T023000Z
DTEND:20081207T043000Z
X-MICROSOFT-CDO-ALLDAYEVENT:FALSE
SUMMARY:Taco Fundraiser for the West Sacramento Christmas Basket Project
DESCRIPTION:Annual Fundraiser sponsored by the West Sacramento Moose Family Center.  All money is donated to the West Sacramento Christmas Basket Project to help provide food to families and seniors in need.
X-ALT-DESC;FMTTYPE=text/html:Annual Fundraiser sponsored by the West Sacramento Moose Family Center.  All money is donated to the West Sacramento Christmas Basket Project to help provide food to families and seniors in need.
LOCATION:3240 Jefferson Blvd\, West Sacramento\, CA 95691 West Sacramento Moose Family Center 3240 Jefferson Blvd\, West Sacramento
UID:e.2957.759
SEQUENCE:3
DTSTAMP:20260425T222112Z
URL:https://www.westsacramentochamber.com/events/details/taco-fundraiser-for-the-west-sacramento-christmas-basket-project-759
END:VEVENT

END:VCALENDAR
