BEGIN:VCALENDAR
VERSION:2.0
PRODID:-//ChamberMaster//Event Calendar 2.0//EN
METHOD:PUBLISH
X-PUBLISHED-TTL:P3D
REFRESH-INTERVAL:P3D
CALSCALE:GREGORIAN
BEGIN:VEVENT
DTSTART:20260521T180000Z
DTEND:20260521T184500Z
X-MICROSOFT-CDO-ALLDAYEVENT:FALSE
SUMMARY:Swipe Smarter This Spring: Credit Card Tips
DESCRIPTION:Using your credit card for purchases can be a smart move when you pair your spending with a responsible plan. Taking advantage of credit card tracking tools\, reward benefits\, and cardholder protections can help you get ahead. Join SAFE's Financial Wellness Team to understand the benefits of using your credit card wisely.\nTopics Covered\n\n\n\n	How to use credit cards to spend wisely\n	Tools to help you manage your credit card spending\n	Taking advantage of credit card rewards
X-ALT-DESC;FMTTYPE=text/html:<span style="color:rgb(74\, 74\, 74)\; font-family:outfit\,sans-serif\; font-size:16px">Using your credit card for purchases can be a smart move when you pair your spending with a responsible plan. Taking advantage of credit card tracking tools\, reward benefits\, and cardholder protections can help you get ahead. Join SAFE&#39\;s Financial Wellness Team to understand the benefits of using your credit card wisely.</span>\n<h4>Topics Covered</h4>\n\n<div>\n<ul>\n	<li>How to use credit cards to spend wisely</li>\n	<li>Tools to help you manage your credit card spending</li>\n	<li>Taking advantage of credit card rewards</li>\n</ul>\n</div>\n
LOCATION:FREE Virtual Webinar
UID:e.2957.5220
SEQUENCE:3
DTSTAMP:20260424T081651Z
URL:https://www.westsacramentochamber.com/events/details/swipe-smarter-this-spring-credit-card-tips-5220
END:VEVENT

END:VCALENDAR
