BEGIN:VCALENDAR
VERSION:2.0
PRODID:-//ChamberMaster//Event Calendar 2.0//EN
METHOD:PUBLISH
X-PUBLISHED-TTL:P3D
REFRESH-INTERVAL:P3D
CALSCALE:GREGORIAN
BEGIN:VEVENT
DTSTART:20121208T170000Z
DTEND:20121208T230000Z
X-MICROSOFT-CDO-ALLDAYEVENT:FALSE
SUMMARY:Stonegate Elementary Winter Craft Fair
DESCRIPTION:Cordially Invite the Community to join us in the winter Festivities and support the School with thier prescence and desire to finish up their holiday shopping. Our indoor event will have free parking and free admission\, childrens activities\, Artisian and Handcrafted shopping\, Baked goods\, Food and music.
X-ALT-DESC;FMTTYPE=text/html:Cordially Invite the Community to join us in the winter Festivities and support the School with thier prescence and desire to finish up their holiday shopping. Our indoor event will have free parking and free admission\, childrens activities\, Artisian and Handcrafted shopping\, Baked goods\, Food and music.
LOCATION:2500 La Jolla St.\, West Sacramento\, CA 95691 2500 La Jolla St. West Sacramento ca 95691 Jefferson Blvd toward levee Left on Gateway Right on North Beach Ave. At stop sign make a Left Turn Right on La Jolla
UID:e.2957.1167
SEQUENCE:3
DTSTAMP:20260420T020255Z
URL:https://www.westsacramentochamber.com/events/details/stonegate-elementary-winter-craft-fair-1167
END:VEVENT

END:VCALENDAR
