BEGIN:VCALENDAR
VERSION:2.0
PRODID:-//ChamberMaster//Event Calendar 2.0//EN
METHOD:PUBLISH
X-PUBLISHED-TTL:P3D
REFRESH-INTERVAL:P3D
CALSCALE:GREGORIAN
BEGIN:VEVENT
DTSTART:20110412T170000Z
DTEND:20110417T010000Z
X-MICROSOFT-CDO-ALLDAYEVENT:FALSE
SUMMARY:Spring Fling Adoption Event Yolo co Animal Shelter
DESCRIPTION:Adoption event\; cats and dogs discounted to 1/2 price during these days
X-ALT-DESC;FMTTYPE=text/html:Adoption event\; cats and dogs discounted to 1/2 price during these days
LOCATION:2640 East Gibson Rd\, Woodland\, CA 95776 2640 East Gibson Rd\, Woodland\, CA\, 95776 Yolo County Animal Shelter
UID:e.2957.1069
SEQUENCE:3
DTSTAMP:20260423T121242Z
URL:https://www.westsacramentochamber.com/events/details/spring-fling-adoption-event-yolo-co-animal-shelter-1069
END:VEVENT

END:VCALENDAR
