BEGIN:VCALENDAR
VERSION:2.0
PRODID:-//ChamberMaster//Event Calendar 2.0//EN
METHOD:PUBLISH
X-PUBLISHED-TTL:P3D
REFRESH-INTERVAL:P3D
CALSCALE:GREGORIAN
BEGIN:VEVENT
DTSTART:20140521T160000Z
DTEND:20140521T190000Z
X-MICROSOFT-CDO-ALLDAYEVENT:FALSE
SUMMARY:Social Media for Business: Using Video and Blogging to Stand Out from the Crowd
DESCRIPTION:Social media experts Kerry Shearer and Ryan Lundquist will cover everything you need to know to position your business as the authority in your field.\n\nIn this half-day workshop you will learn inexpensive video and audio tools to use\, blogging tips\, what social media platforms make sense for your business and so much more!\n\n$99 includes:\n\n-          Admission to the workshop\n\n-          A one-year print/digital subscription to the Sacramento Business Journal*\n\n-          Current Book of Lists and new Book when its published in December\n\n-          Lunch\n\n \n\n* One year paper and digital subscription (Value $115)\, hard copies of both the 2013 and 2014 Book of Lists (Value $140.00). If you already have a subscription\, it will be extended another year or you can gift it.
X-ALT-DESC;FMTTYPE=text/html:Social media experts Kerry Shearer and Ryan Lundquist will cover everything you need to know to position your business as the authority in your field.\n\nIn this half-day workshop you will learn inexpensive video and audio tools to use\, blogging tips\, what social media platforms make sense for your business and so much more!\n\n$99 includes:\n\n-          Admission to the workshop\n\n-          A one-year print/digital subscription to the Sacramento Business Journal*\n\n-          Current Book of Lists and new Book when its published in December\n\n-          Lunch\n\n \n\n* One year paper and digital subscription (Value $115)\, hard copies of both the 2013 and 2014 Book of Lists (Value $140.00). If you already have a subscription\, it will be extended another year or you can gift it.
LOCATION:One Capitol Mall #260\, Sacramento\, CA 95814 Drexel University Sacramento 1 Capitol Mall #260 Sacramento CA 95814
UID:e.2957.1311
SEQUENCE:3
DTSTAMP:20260423T121407Z
URL:https://www.westsacramentochamber.com/events/details/social-media-for-business-using-video-and-blogging-to-stand-out-from-the-crowd-1311
END:VEVENT

END:VCALENDAR
