BEGIN:VCALENDAR
VERSION:2.0
PRODID:-//ChamberMaster//Event Calendar 2.0//EN
METHOD:PUBLISH
X-PUBLISHED-TTL:P3D
REFRESH-INTERVAL:P3D
CALSCALE:GREGORIAN
BEGIN:VEVENT
DTSTART:20130730T153000Z
DTEND:20130730T190000Z
X-MICROSOFT-CDO-ALLDAYEVENT:FALSE
SUMMARY:Social Media for Business
DESCRIPTION:Learn to how to use social media to grow your business! Easy and practical tips businesses of all sizes can use to maximize their effectiveness on various social media platforms. Registration includes seminar admission\, 1-year Business Journal digital subscription\, current Book of Lists and lunch by Outback Steakhouse
X-ALT-DESC;FMTTYPE=text/html:Learn to how to use social media to grow your business! Easy and practical tips businesses of all sizes can use to maximize their effectiveness on various social media platforms. Registration includes seminar admission\, 1-year Business Journal digital subscription\, current Book of Lists and lunch by Outback Steakhouse
LOCATION:Outback Steakhouse\, Sacramento\, CA 95825 Outback Steakhouse\, 1340 Howe Ave Sacramento CA 95825
UID:e.2957.1203
SEQUENCE:3
DTSTAMP:20260423T121156Z
URL:https://www.westsacramentochamber.com/events/details/social-media-for-business-1203
END:VEVENT

END:VCALENDAR
