BEGIN:VCALENDAR
VERSION:2.0
PRODID:-//ChamberMaster//Event Calendar 2.0//EN
METHOD:PUBLISH
X-PUBLISHED-TTL:P3D
REFRESH-INTERVAL:P3D
CALSCALE:GREGORIAN
BEGIN:VEVENT
DTSTART:20100806T013000Z
DTEND:20100806T013000Z
X-MICROSOFT-CDO-ALLDAYEVENT:FALSE
SUMMARY:Shakespeare On The Vine Presents ''The Merry Wives of Windsor'' by William Shakespeare
DESCRIPTION:West Sacramento Community Theater invites you to come play with us as we present Shakespeare On The Vine and our production of Shakespeares delightful comedy- "The Merry Wives of Windsor" performed at Carvalho Family Wines (Old Sugar Mill)in Clarksburg\, Ca. Bring a Picnic and enjoy fine local wine and classic entertainment in our outdoor setting.
X-ALT-DESC;FMTTYPE=text/html:West Sacramento Community Theater invites you to come play with us as we present Shakespeare On The Vine and our production of Shakespeares delightful comedy- "The Merry Wives of Windsor" performed at Carvalho Family Wines (Old Sugar Mill)in Clarksburg\, Ca. Bring a Picnic and enjoy fine local wine and classic entertainment in our outdoor setting. 
LOCATION:35265 Willow Ave\, Clarksburg\, CA 95612 . Clarksburg\, CA 95612
UID:e.2957.1004
SEQUENCE:3
DTSTAMP:20260422T165137Z
URL:https://www.westsacramentochamber.com/events/details/shakespeare-on-the-vine-presents-the-merry-wives-of-windsor-by-william-shakespeare-1004
END:VEVENT

END:VCALENDAR
