BEGIN:VCALENDAR
VERSION:2.0
PRODID:-//ChamberMaster//Event Calendar 2.0//EN
METHOD:PUBLISH
X-PUBLISHED-TTL:P3D
REFRESH-INTERVAL:P3D
CALSCALE:GREGORIAN
BEGIN:VEVENT
DTSTART:20191029T190000Z
DTEND:20191029T200000Z
X-MICROSOFT-CDO-ALLDAYEVENT:FALSE
SUMMARY:ServiceMaster Restore Ribbon Cutting
DESCRIPTION:Please join us for a ribbon cutting for our member\, ServiceMaster Restoration by First Response\, Inc.
X-ALT-DESC;FMTTYPE=text/html:Please join us for a ribbon cutting for our member\, ServiceMaster Restoration by First Response\, Inc.&nbsp\;
LOCATION:Service Master Restoration by First Response\, Inc. 1901 Enterprise Blvd. West Sacramento\, CA 95691
UID:e.2957.2088
SEQUENCE:3
DTSTAMP:20260421T080443Z
URL:https://www.westsacramentochamber.com/events/details/servicemaster-restore-ribbon-cutting-2088
END:VEVENT

END:VCALENDAR
