BEGIN:VCALENDAR
VERSION:2.0
PRODID:-//ChamberMaster//Event Calendar 2.0//EN
METHOD:PUBLISH
X-PUBLISHED-TTL:P3D
REFRESH-INTERVAL:P3D
CALSCALE:GREGORIAN
BEGIN:VEVENT
DTSTART:20110615T143000Z
DTEND:20110615T160000Z
X-MICROSOFT-CDO-ALLDAYEVENT:FALSE
SUMMARY:Securing a Business Loan Workshop
DESCRIPTION:Join Yolo FCU\, along with guest speakers from the Small Business Development Center and Small Business Administration for a FREE workshop where you'll learn the ins and outs of securing a business loan.
X-ALT-DESC;FMTTYPE=text/html:Join Yolo FCU\, along with guest speakers from the Small Business Development Center and Small Business Administration for a FREE workshop where you'll learn the ins and outs of securing a business loan.
LOCATION:2171 Cowell Boulevard\, Davis\, CA 95618 Yolo Federal Credit Union 2171 Cowell Boulevard Davis\, CA 95618
UID:e.2957.1078
SEQUENCE:3
DTSTAMP:20260422T164736Z
URL:https://www.westsacramentochamber.com/events/details/securing-a-business-loan-workshop-1078
END:VEVENT

END:VCALENDAR
