BEGIN:VCALENDAR
VERSION:2.0
PRODID:-//ChamberMaster//Event Calendar 2.0//EN
METHOD:PUBLISH
X-PUBLISHED-TTL:P3D
REFRESH-INTERVAL:P3D
CALSCALE:GREGORIAN
BEGIN:VEVENT
DTSTART:20090423T163000Z
DTEND:20090423T193000Z
X-MICROSOFT-CDO-ALLDAYEVENT:FALSE
SUMMARY:Second Pre-Bid Meeting/Networking-Outreach Session for Contract No. 04-0120S4
DESCRIPTION:We invite you to join us for the Second Pre-Bid Meeting/Networking Outreach Session for Contract No. 04-0120S4\, the Yerba Buena Island Transition Structure\, Contract 1.\n\nWork under this construction contract will consist of constructing the Yerba Buena Island Transition Structure which will link the new Self-Anchored Suspension bridge to the existing viaduct on Yerba Buena Island Building B.\n\nAGENDA\n1. Registration  9:30 am–10:00am \n2. Welcome and Introductions  10:00 am–10:10am \n3. Bidder's Conference*  10:10 am–11:00am \n4. Networking/Contractor Appointments  11:00 am–12:30pm \n\n*It is mandatory for prospective primes to attend.\nSubcontractors are strongly encouraged to attend for teaming possibilities.
X-ALT-DESC;FMTTYPE=text/html:We invite you to join us for the Second Pre-Bid Meeting/Networking Outreach Session for Contract No. 04-0120S4\, the Yerba Buena Island Transition Structure\, Contract 1.\n\nWork under this construction contract will consist of constructing the Yerba Buena Island Transition Structure which will link the new Self-Anchored Suspension bridge to the existing viaduct on Yerba Buena Island Building B.\n\nAGENDA\n1. Registration  9:30 am–10:00am \n2. Welcome and Introductions  10:00 am–10:10am \n3. Bidder's Conference*  10:10 am–11:00am \n4. Networking/Contractor Appointments  11:00 am–12:30pm \n\n*It is mandatory for prospective primes to attend.\nSubcontractors are strongly encouraged to attend for teaming possibilities.\n\n
LOCATION:Treasure Island Library\, Building 265\, San Francisco \, CA 94130 For driving directions\, please go to the link below. http://baybridgeinfo.org/smallbusiness/directions
UID:e.2957.851
SEQUENCE:3
DTSTAMP:20260425T163914Z
URL:https://www.westsacramentochamber.com/events/details/second-pre-bid-meeting-networking-outreach-session-for-contract-no-04-0120s4-851
END:VEVENT

END:VCALENDAR
