BEGIN:VCALENDAR
VERSION:2.0
PRODID:-//ChamberMaster//Event Calendar 2.0//EN
METHOD:PUBLISH
X-PUBLISHED-TTL:P3D
REFRESH-INTERVAL:P3D
CALSCALE:GREGORIAN
BEGIN:VEVENT
DTSTART:20090813T160000Z
DTEND:20090813T190000Z
X-MICROSOFT-CDO-ALLDAYEVENT:FALSE
SUMMARY:SBA's 8(a) Business Development Program
DESCRIPTION:Cost: FREE \nDescription:\nThis class will cover:\n• Eligibility criteria for the 8(a) Program\n• Certification timeline\n• How 8(a) contracts operate\n• Timeline and stages of program participation\n• How the program is exited
X-ALT-DESC;FMTTYPE=text/html:Cost: FREE \nDescription:\nThis class will cover:\n• Eligibility criteria for the 8(a) Program\n• Certification timeline\n• How 8(a) contracts operate\n• Timeline and stages of program participation\n• How the program is exited
LOCATION:Stockton Boulevard BIC\, Sacramento\, CA 95820 Stockton Boulevard Business Information Center 4990 Stockton Boulevard Sacramento\, CA 95820
UID:e.2957.881
SEQUENCE:3
DTSTAMP:20260425T160232Z
URL:https://www.westsacramentochamber.com/events/details/sba-s-8-a-business-development-program-881
END:VEVENT

END:VCALENDAR
