BEGIN:VCALENDAR
VERSION:2.0
PRODID:-//ChamberMaster//Event Calendar 2.0//EN
METHOD:PUBLISH
X-PUBLISHED-TTL:P3D
REFRESH-INTERVAL:P3D
CALSCALE:GREGORIAN
BEGIN:VEVENT
DTSTART:20221210T163000Z
DTEND:20221210T180000Z
X-MICROSOFT-CDO-ALLDAYEVENT:FALSE
SUMMARY:Santa Breakfast - First Seating
DESCRIPTION:SANTA BREAKFAST IS SOLD OUT! \n\n\n\nSanta Claus is coming to town and he's making a special stop at the West Sacramento Community Center on Saturday\, December 10\, 2022 from 8:30AM-10:00AM. Enjoy a delicious catered pancake breakfast including pancakes\, eggs\, sausage\, bacon\, potatoes\, orange juice and hot chocolate. Kids will have an opportunity to decorate their pancakes\, write their letter to Santa\, activities\, crafts\, and a special visit with Santa! Professional pictures included. \n\n\n\nWe take pride in this being a no pressure\, no drama Santa experience for all. Santa will be in the room the entire time\; giving the little ones a chance to eat at their leisure\, color\, play games\, and warm up to Santa before having their pictures taken. \n\n\n\nBreakfast includes: pancakes\, eggs\, sausage\, bacon\, potatoes\, orange juice\, and hot chocolate!\n\n\n\nPre-Registration is required\n\n\nAdults & children 9+ - $20.00\n\nChildren ages 3-8 -- $10.00\n\nChildren 2 & under - FREE
X-ALT-DESC;FMTTYPE=text/html:<span style="font-family: sans-serif\, Arial\, Verdana\, &quot\;Trebuchet MS&quot\;\; font-size: 13px\;"><span style="color:#FF0000\;"><strong>SANTA BREAKFAST IS SOLD OUT!&nbsp\;</strong></span><br />\n<br />\nSanta Claus is coming to town and he&#39\;s making a special stop at the West Sacramento Community Center on Saturday\, December 10\, 2022 from 8:30AM-10:00AM. Enjoy a delicious catered pancake breakfast including pancakes\, eggs\, sausage\, bacon\, potatoes\, orange juice and hot chocolate. Kids will have an opportunity to decorate their pancakes\, write their letter to Santa\, activities\, crafts\, and a special visit with Santa! Professional pictures included.&nbsp\;<br />\n<br />\nWe take pride in this being a no pressure\, no drama Santa experience for all. Santa will be in the room the entire time\; giving the little ones a chance to eat at their leisure\, color\, play games\, and warm up to Santa before having their pictures taken.&nbsp\;</span><br />\n<br style="color: rgb(51\, 51\, 51)\; font-family: sans-serif\, Arial\, Verdana\, &quot\;Trebuchet MS&quot\;\; font-size: 13px\;" />\n<span style="font-family: sans-serif\, Arial\, Verdana\, &quot\;Trebuchet MS&quot\;\; font-size: 13px\;"><strong><span style="background-color: rgb(255\, 255\, 255)\;">Breakfast includes: pancakes\, eggs\, sausage\, bacon\, potatoes\, orange juice\, and hot chocolate!</span></strong></span><br style="color: rgb(51\, 51\, 51)\; font-family: sans-serif\, Arial\, Verdana\, &quot\;Trebuchet MS&quot\;\; font-size: 13px\;" />\n<br />\n<span style="font-family: sans-serif\, Arial\, Verdana\, &quot\;Trebuchet MS&quot\;\; font-size: 13px\;"><span style="font-size: 14px\;"><strong>Pre-Registration is required</strong></span></span>\n<div style="color: rgb(51\, 51\, 51)\; font-family: sans-serif\, Arial\, Verdana\, &quot\;Trebuchet MS&quot\;\; font-size: 13px\;"><br />\n<span style="color: rgb(0\, 0\, 0)\;"><strong>Adults &amp\; children 9+&nbsp\;- $20.00<br />\nChildren ages 3-8&nbsp\;-- $10.00<br />\nChildren 2 &amp\; under - FREE</strong></span></div>\n
LOCATION:West Sacramento Community Center 1075 West Capitol Ave West Sacramento\, CA 95691
UID:e.2957.3575
SEQUENCE:3
DTSTAMP:20260425T131609Z
URL:https://www.westsacramentochamber.com/events/details/santa-breakfast-first-seating-3575
END:VEVENT

END:VCALENDAR
