BEGIN:VCALENDAR
VERSION:2.0
PRODID:-//ChamberMaster//Event Calendar 2.0//EN
METHOD:PUBLISH
X-PUBLISHED-TTL:P3D
REFRESH-INTERVAL:P3D
CALSCALE:GREGORIAN
BEGIN:VEVENT
DTSTART:20230404T180000Z
DTEND:20230404T190000Z
X-MICROSOFT-CDO-ALLDAYEVENT:FALSE
SUMMARY:SAFE CU Presents: Wise Ways to Shop with Your Credit Card
DESCRIPTION:Using your credit card for purchases can be a smart move when you pair your spending with a responsible plan. Taking advantage of credit card tracking tools\, reward benefits\, and cardholder protections can help you get ahead as well. Join our Financial Wellness Team to understand the benefits of using your credit card wisely. Topics covered in this session:  How to use credit cards to spend wisely  Tools to help you manage your credit card spending  Taking advantage of credit card rewards
X-ALT-DESC;FMTTYPE=text/html:Using your credit card for purchases can be a smart move when you pair your spending with a responsible plan. Taking advantage of credit card tracking tools\, reward benefits\, and cardholder protections can help you get ahead as well. Join our Financial Wellness Team to understand the benefits of using your credit card wisely. Topics covered in this session: &bull\;How to use credit cards to spend wisely &bull\;Tools to help you manage your credit card spending &bull\;Taking advantage of credit card rewards
LOCATION:Online Webinar. Register here: https://safecu.zoom.us/webinar/register/1216764785063/WN_I7P-BthYQ1uMm8Sd9xpcoQ#/registration
UID:e.2957.4094
SEQUENCE:3
DTSTAMP:20260421T033010Z
URL:https://www.westsacramentochamber.com/events/details/safe-cu-presents-wise-ways-to-shop-with-your-credit-card-4094
END:VEVENT

END:VCALENDAR
