BEGIN:VCALENDAR
VERSION:2.0
PRODID:-//ChamberMaster//Event Calendar 2.0//EN
METHOD:PUBLISH
X-PUBLISHED-TTL:P3D
REFRESH-INTERVAL:P3D
CALSCALE:GREGORIAN
BEGIN:VEVENT
DTSTART:20241022T180000Z
DTEND:20241022T190000Z
X-MICROSOFT-CDO-ALLDAYEVENT:FALSE
SUMMARY:SAFE CU Presents: Trick...or Treat? Decoding the Psychology of Shopping
DESCRIPTION:Join SAFE's Financial Education team as they decode holiday sales like Black Friday and Cyber Monday. Learn more about the psychology of shopping\, how to determine if you are truly snagging a great deal\, and tips on making the most of your holiday sale shopping!   Why sales attract the average consumer   Uncover marketing and advertising tactics   Learn true bargaining strategies and resources   Differentiate Wants Vs. Needs
X-ALT-DESC;FMTTYPE=text/html:Join SAFE&rsquo\;s Financial Education team as they decode holiday sales like Black Friday and Cyber Monday. Learn more about the psychology of shopping\, how to determine if you are truly snagging a great deal\, and tips on making the most of your holiday sale shopping! &bull\; Why sales attract the average consumer &bull\; Uncover marketing and advertising tactics &bull\; Learn true bargaining strategies and resources &bull\; Differentiate Wants Vs. Needs
LOCATION:Online webinar
UID:e.2957.5007
SEQUENCE:3
DTSTAMP:20260423T090400Z
URL:https://www.westsacramentochamber.com/events/details/safe-cu-presents-trick-or-treat-decoding-the-psychology-of-shopping-5007
END:VEVENT

END:VCALENDAR
