BEGIN:VCALENDAR
VERSION:2.0
PRODID:-//ChamberMaster//Event Calendar 2.0//EN
METHOD:PUBLISH
X-PUBLISHED-TTL:P3D
REFRESH-INTERVAL:P3D
CALSCALE:GREGORIAN
BEGIN:VEVENT
DTSTART:20241017T190000Z
DTEND:20241017T200000Z
X-MICROSOFT-CDO-ALLDAYEVENT:FALSE
SUMMARY:SAFE CU Presents: Making Home Equity Work for You
DESCRIPTION:Join SAFE Credit Union's Financial Education team as they explore the ways a SAFE Home Equity loan can help you build financial freedom for your future.   Understanding equity   Paying off debt with equity   Using equity as a safety net   Using equity to build wealth
X-ALT-DESC;FMTTYPE=text/html:Join SAFE Credit Union&rsquo\;s Financial Education team as they explore the ways a SAFE Home Equity loan can help you build financial freedom for your future. &bull\; Understanding equity &bull\; Paying off debt with equity &bull\; Using equity as a safety net &bull\; Using equity to build wealth
LOCATION:Online webinar
UID:e.2957.5006
SEQUENCE:3
DTSTAMP:20260421T075611Z
URL:https://www.westsacramentochamber.com/events/details/safe-cu-presents-making-home-equity-work-for-you-5006
END:VEVENT

END:VCALENDAR
