BEGIN:VCALENDAR
VERSION:2.0
PRODID:-//ChamberMaster//Event Calendar 2.0//EN
METHOD:PUBLISH
X-PUBLISHED-TTL:P3D
REFRESH-INTERVAL:P3D
CALSCALE:GREGORIAN
BEGIN:VEVENT
DTSTART:20091010T200000Z
DTEND:20091010T200000Z
X-MICROSOFT-CDO-ALLDAYEVENT:FALSE
SUMMARY:Sacramento Valley Chorus Annual Show
DESCRIPTION:The Sacramento Valley Chorus\, a chapter of Sweet Adelines International presents their annual show. We would like to have you join us on a musical journey through the history of music from the past to the present. The Sacramento Valley Chorus is an award winning chorus of women of all ages\, who enjoy singing acapella\, 4 part harmony Barbershop style.\nThere will be two performances: 2pm and 6pm\nGeneral Admission: $15\nSenior Admission: 412 (60+\, children 12 & under\, groups of 10+)
X-ALT-DESC;FMTTYPE=text/html:The Sacramento Valley Chorus\, a chapter of Sweet Adelines International presents their annual show. We would like to have you join us on a musical journey through the history of music from the past to the present. The Sacramento Valley Chorus is an award winning chorus of women of all ages\, who enjoy singing acapella\, 4 part harmony Barbershop style.\nThere will be two performances: 2pm and 6pm\nGeneral Admission: $15\nSenior Admission: 412 (60+\, children 12 & under\, groups of 10+)
LOCATION:5025 Manzanita Avenue\, Carmichael\, Ca 95608 Christ Community Church 5025 Manzanita Avenue Carmichael\, Ca
UID:e.2957.894
SEQUENCE:3
DTSTAMP:20260423T225938Z
URL:https://www.westsacramentochamber.com/events/details/sacramento-valley-chorus-annual-show-894
END:VEVENT

END:VCALENDAR
